BEGIN:VCALENDAR
BEGIN:VEVENT
CLASS:PUBLIC
CREATED:20260423T143313
DESCRIPTION:<h5></h5>
Saturday, September 19, 2015

10:00 AM – 4:00 PM

St. Leon Armenian Church

Lunch included

 

Registration: $20 online, $25 at the door

- See more at: http://www.scooch.org/2015/06/4th-annual-youth-conference-northeastern-us/#sthash.z3hWthkd.dpuf
DTEND:20150919T160000
DTSTAMP:20260423T143313
DTSTART:20150919T100000
LAST-MODIFIED:20091109T101015Z
LOCATION:St. Leon Armenian Church, Street12-61 Saddle River Road  , Fair Lawn, NJ, 07410
SUMMARY;LANGUAGE=en-us:4th Annual Youth Conference - Northeastern US
BEGIN:VALARM
TRIGGER:-PT1440M
ACTION:DISPLAY
DESCRIPTION:Reminder
END:VALARM
END:VEVENT
END:VCALENDAR
